BEGIN:VCALENDAR
VERSION:2.0
PRODID:-//Parkview Green Condominium Association - ECPv6.15.20//NONSGML v1.0//EN
CALSCALE:GREGORIAN
METHOD:PUBLISH
X-WR-CALNAME:Parkview Green Condominium Association
X-ORIGINAL-URL:https://parkviewgreencondos.org
X-WR-CALDESC:Events for Parkview Green Condominium Association
REFRESH-INTERVAL;VALUE=DURATION:PT1H
X-Robots-Tag:noindex
X-PUBLISHED-TTL:PT1H
BEGIN:VTIMEZONE
TZID:America/Los_Angeles
BEGIN:DAYLIGHT
TZOFFSETFROM:-0800
TZOFFSETTO:-0700
TZNAME:PDT
DTSTART:20250309T100000
END:DAYLIGHT
BEGIN:STANDARD
TZOFFSETFROM:-0700
TZOFFSETTO:-0800
TZNAME:PST
DTSTART:20251102T090000
END:STANDARD
BEGIN:DAYLIGHT
TZOFFSETFROM:-0800
TZOFFSETTO:-0700
TZNAME:PDT
DTSTART:20260308T100000
END:DAYLIGHT
BEGIN:STANDARD
TZOFFSETFROM:-0700
TZOFFSETTO:-0800
TZNAME:PST
DTSTART:20261101T090000
END:STANDARD
BEGIN:DAYLIGHT
TZOFFSETFROM:-0800
TZOFFSETTO:-0700
TZNAME:PDT
DTSTART:20270314T100000
END:DAYLIGHT
BEGIN:STANDARD
TZOFFSETFROM:-0700
TZOFFSETTO:-0800
TZNAME:PST
DTSTART:20271107T090000
END:STANDARD
BEGIN:DAYLIGHT
TZOFFSETFROM:-0800
TZOFFSETTO:-0700
TZNAME:PDT
DTSTART:20280312T100000
END:DAYLIGHT
BEGIN:STANDARD
TZOFFSETFROM:-0700
TZOFFSETTO:-0800
TZNAME:PST
DTSTART:20281105T090000
END:STANDARD
BEGIN:DAYLIGHT
TZOFFSETFROM:-0800
TZOFFSETTO:-0700
TZNAME:PDT
DTSTART:20290311T100000
END:DAYLIGHT
BEGIN:STANDARD
TZOFFSETFROM:-0700
TZOFFSETTO:-0800
TZNAME:PST
DTSTART:20291104T090000
END:STANDARD
END:VTIMEZONE
BEGIN:VEVENT
DTSTART;VALUE=DATE:20260518
DTEND;VALUE=DATE:20260519
DTSTAMP:20260421T131032
CREATED:20260217T163610Z
LAST-MODIFIED:20260217T171106Z
UID:10000067-1779062400-1779148799@parkviewgreencondos.org
SUMMARY:Monthly Board Meeting
DESCRIPTION:Time(s): 6:30 PM\nMeeting ID: 880 0205 7099\nMeeting password: 393271\nDial-in: (669) 900-9128
URL:https://parkviewgreencondos.org/event/monthly-board-meeting/2026-05-18/
LOCATION:https://parkviewgreencondos.org/event/monthly-board-meeting/2026-05-18/
END:VEVENT
BEGIN:VEVENT
DTSTART;VALUE=DATE:20260615
DTEND;VALUE=DATE:20260616
DTSTAMP:20260421T131032
CREATED:20260217T163610Z
LAST-MODIFIED:20260217T171106Z
UID:10000068-1781481600-1781567999@parkviewgreencondos.org
SUMMARY:Monthly Board Meeting
DESCRIPTION:Time(s): 6:30 PM\nMeeting ID: 880 0205 7099\nMeeting password: 393271\nDial-in: (669) 900-9128
URL:https://parkviewgreencondos.org/event/monthly-board-meeting/2026-06-15/
LOCATION:https://parkviewgreencondos.org/event/monthly-board-meeting/2026-06-15/
END:VEVENT
BEGIN:VEVENT
DTSTART;VALUE=DATE:20260720
DTEND;VALUE=DATE:20260721
DTSTAMP:20260421T131032
CREATED:20260217T163610Z
LAST-MODIFIED:20260217T171106Z
UID:10000069-1784505600-1784591999@parkviewgreencondos.org
SUMMARY:Monthly Board Meeting
DESCRIPTION:Time(s): 6:30 PM\nMeeting ID: 880 0205 7099\nMeeting password: 393271\nDial-in: (669) 900-9128
URL:https://parkviewgreencondos.org/event/monthly-board-meeting/2026-07-20/
LOCATION:https://parkviewgreencondos.org/event/monthly-board-meeting/2026-07-20/
END:VEVENT
BEGIN:VEVENT
DTSTART;VALUE=DATE:20260817
DTEND;VALUE=DATE:20260818
DTSTAMP:20260421T131032
CREATED:20260217T163610Z
LAST-MODIFIED:20260217T171106Z
UID:10000070-1786924800-1787011199@parkviewgreencondos.org
SUMMARY:Monthly Board Meeting
DESCRIPTION:Time(s): 6:30 PM\nMeeting ID: 880 0205 7099\nMeeting password: 393271\nDial-in: (669) 900-9128
URL:https://parkviewgreencondos.org/event/monthly-board-meeting/2026-08-17/
LOCATION:https://parkviewgreencondos.org/event/monthly-board-meeting/2026-08-17/
END:VEVENT
BEGIN:VEVENT
DTSTART;VALUE=DATE:20260921
DTEND;VALUE=DATE:20260922
DTSTAMP:20260421T131032
CREATED:20260217T163610Z
LAST-MODIFIED:20260217T171106Z
UID:10000071-1789948800-1790035199@parkviewgreencondos.org
SUMMARY:Monthly Board Meeting
DESCRIPTION:Time(s): 6:30 PM\nMeeting ID: 880 0205 7099\nMeeting password: 393271\nDial-in: (669) 900-9128
URL:https://parkviewgreencondos.org/event/monthly-board-meeting/2026-09-21/
LOCATION:https://parkviewgreencondos.org/event/monthly-board-meeting/2026-09-21/
END:VEVENT
BEGIN:VEVENT
DTSTART;VALUE=DATE:20261019
DTEND;VALUE=DATE:20261020
DTSTAMP:20260421T131032
CREATED:20260217T163610Z
LAST-MODIFIED:20260217T171106Z
UID:10000072-1792368000-1792454399@parkviewgreencondos.org
SUMMARY:Monthly Board Meeting
DESCRIPTION:Time(s): 6:30 PM\nMeeting ID: 880 0205 7099\nMeeting password: 393271\nDial-in: (669) 900-9128
URL:https://parkviewgreencondos.org/event/monthly-board-meeting/2026-10-19/
LOCATION:https://parkviewgreencondos.org/event/monthly-board-meeting/2026-10-19/
END:VEVENT
BEGIN:VEVENT
DTSTART;VALUE=DATE:20261116
DTEND;VALUE=DATE:20261117
DTSTAMP:20260421T131032
CREATED:20260217T163610Z
LAST-MODIFIED:20260217T171106Z
UID:10000073-1794787200-1794873599@parkviewgreencondos.org
SUMMARY:Monthly Board Meeting
DESCRIPTION:Time(s): 6:30 PM\nMeeting ID: 880 0205 7099\nMeeting password: 393271\nDial-in: (669) 900-9128
URL:https://parkviewgreencondos.org/event/monthly-board-meeting/2026-11-16/
LOCATION:https://parkviewgreencondos.org/event/monthly-board-meeting/2026-11-16/
END:VEVENT
BEGIN:VEVENT
DTSTART;VALUE=DATE:20261221
DTEND;VALUE=DATE:20261222
DTSTAMP:20260421T131032
CREATED:20260217T163610Z
LAST-MODIFIED:20260217T171106Z
UID:10000074-1797811200-1797897599@parkviewgreencondos.org
SUMMARY:Monthly Board Meeting
DESCRIPTION:Time(s): 6:30 PM\nMeeting ID: 880 0205 7099\nMeeting password: 393271\nDial-in: (669) 900-9128
URL:https://parkviewgreencondos.org/event/monthly-board-meeting/2026-12-21/
LOCATION:https://parkviewgreencondos.org/event/monthly-board-meeting/2026-12-21/
END:VEVENT
BEGIN:VEVENT
DTSTART;VALUE=DATE:20270118
DTEND;VALUE=DATE:20270119
DTSTAMP:20260421T131032
CREATED:20260217T163610Z
LAST-MODIFIED:20260217T171106Z
UID:10000075-1800230400-1800316799@parkviewgreencondos.org
SUMMARY:Monthly Board Meeting
DESCRIPTION:Time(s): 6:30 PM\nMeeting ID: 880 0205 7099\nMeeting password: 393271\nDial-in: (669) 900-9128
URL:https://parkviewgreencondos.org/event/monthly-board-meeting/2027-01-18/
LOCATION:https://parkviewgreencondos.org/event/monthly-board-meeting/2027-01-18/
END:VEVENT
BEGIN:VEVENT
DTSTART;VALUE=DATE:20270215
DTEND;VALUE=DATE:20270216
DTSTAMP:20260421T131032
CREATED:20260217T163610Z
LAST-MODIFIED:20260217T171106Z
UID:10000076-1802649600-1802735999@parkviewgreencondos.org
SUMMARY:Monthly Board Meeting
DESCRIPTION:Time(s): 6:30 PM\nMeeting ID: 880 0205 7099\nMeeting password: 393271\nDial-in: (669) 900-9128
URL:https://parkviewgreencondos.org/event/monthly-board-meeting/2027-02-15/
LOCATION:https://parkviewgreencondos.org/event/monthly-board-meeting/2027-02-15/
END:VEVENT
BEGIN:VEVENT
DTSTART;VALUE=DATE:20270315
DTEND;VALUE=DATE:20270316
DTSTAMP:20260421T131032
CREATED:20260217T163610Z
LAST-MODIFIED:20260217T171106Z
UID:10000077-1805068800-1805155199@parkviewgreencondos.org
SUMMARY:Monthly Board Meeting
DESCRIPTION:Time(s): 6:30 PM\nMeeting ID: 880 0205 7099\nMeeting password: 393271\nDial-in: (669) 900-9128
URL:https://parkviewgreencondos.org/event/monthly-board-meeting/2027-03-15/
LOCATION:https://parkviewgreencondos.org/event/monthly-board-meeting/2027-03-15/
END:VEVENT
BEGIN:VEVENT
DTSTART;VALUE=DATE:20270419
DTEND;VALUE=DATE:20270420
DTSTAMP:20260421T131032
CREATED:20260217T163610Z
LAST-MODIFIED:20260217T171106Z
UID:10000078-1808092800-1808179199@parkviewgreencondos.org
SUMMARY:Monthly Board Meeting
DESCRIPTION:Time(s): 6:30 PM\nMeeting ID: 880 0205 7099\nMeeting password: 393271\nDial-in: (669) 900-9128
URL:https://parkviewgreencondos.org/event/monthly-board-meeting/2027-04-19/
LOCATION:https://parkviewgreencondos.org/event/monthly-board-meeting/2027-04-19/
END:VEVENT
BEGIN:VEVENT
DTSTART;VALUE=DATE:20270517
DTEND;VALUE=DATE:20270518
DTSTAMP:20260421T131032
CREATED:20260217T163610Z
LAST-MODIFIED:20260217T171106Z
UID:10000079-1810512000-1810598399@parkviewgreencondos.org
SUMMARY:Monthly Board Meeting
DESCRIPTION:Time(s): 6:30 PM\nMeeting ID: 880 0205 7099\nMeeting password: 393271\nDial-in: (669) 900-9128
URL:https://parkviewgreencondos.org/event/monthly-board-meeting/2027-05-17/
LOCATION:https://parkviewgreencondos.org/event/monthly-board-meeting/2027-05-17/
END:VEVENT
BEGIN:VEVENT
DTSTART;VALUE=DATE:20270621
DTEND;VALUE=DATE:20270622
DTSTAMP:20260421T131032
CREATED:20260217T163610Z
LAST-MODIFIED:20260217T171106Z
UID:10000080-1813536000-1813622399@parkviewgreencondos.org
SUMMARY:Monthly Board Meeting
DESCRIPTION:Time(s): 6:30 PM\nMeeting ID: 880 0205 7099\nMeeting password: 393271\nDial-in: (669) 900-9128
URL:https://parkviewgreencondos.org/event/monthly-board-meeting/2027-06-21/
LOCATION:https://parkviewgreencondos.org/event/monthly-board-meeting/2027-06-21/
END:VEVENT
BEGIN:VEVENT
DTSTART;VALUE=DATE:20270719
DTEND;VALUE=DATE:20270720
DTSTAMP:20260421T131032
CREATED:20260217T163610Z
LAST-MODIFIED:20260217T171106Z
UID:10000081-1815955200-1816041599@parkviewgreencondos.org
SUMMARY:Monthly Board Meeting
DESCRIPTION:Time(s): 6:30 PM\nMeeting ID: 880 0205 7099\nMeeting password: 393271\nDial-in: (669) 900-9128
URL:https://parkviewgreencondos.org/event/monthly-board-meeting/2027-07-19/
LOCATION:https://parkviewgreencondos.org/event/monthly-board-meeting/2027-07-19/
END:VEVENT
BEGIN:VEVENT
DTSTART;VALUE=DATE:20270816
DTEND;VALUE=DATE:20270817
DTSTAMP:20260421T131032
CREATED:20260217T163610Z
LAST-MODIFIED:20260217T171106Z
UID:10000082-1818374400-1818460799@parkviewgreencondos.org
SUMMARY:Monthly Board Meeting
DESCRIPTION:Time(s): 6:30 PM\nMeeting ID: 880 0205 7099\nMeeting password: 393271\nDial-in: (669) 900-9128
URL:https://parkviewgreencondos.org/event/monthly-board-meeting/2027-08-16/
LOCATION:https://parkviewgreencondos.org/event/monthly-board-meeting/2027-08-16/
END:VEVENT
BEGIN:VEVENT
DTSTART;VALUE=DATE:20270920
DTEND;VALUE=DATE:20270921
DTSTAMP:20260421T131032
CREATED:20260217T163610Z
LAST-MODIFIED:20260217T171106Z
UID:10000083-1821398400-1821484799@parkviewgreencondos.org
SUMMARY:Monthly Board Meeting
DESCRIPTION:Time(s): 6:30 PM\nMeeting ID: 880 0205 7099\nMeeting password: 393271\nDial-in: (669) 900-9128
URL:https://parkviewgreencondos.org/event/monthly-board-meeting/2027-09-20/
LOCATION:https://parkviewgreencondos.org/event/monthly-board-meeting/2027-09-20/
END:VEVENT
BEGIN:VEVENT
DTSTART;VALUE=DATE:20271018
DTEND;VALUE=DATE:20271019
DTSTAMP:20260421T131032
CREATED:20260217T163610Z
LAST-MODIFIED:20260217T171106Z
UID:10000084-1823817600-1823903999@parkviewgreencondos.org
SUMMARY:Monthly Board Meeting
DESCRIPTION:Time(s): 6:30 PM\nMeeting ID: 880 0205 7099\nMeeting password: 393271\nDial-in: (669) 900-9128
URL:https://parkviewgreencondos.org/event/monthly-board-meeting/2027-10-18/
LOCATION:https://parkviewgreencondos.org/event/monthly-board-meeting/2027-10-18/
END:VEVENT
BEGIN:VEVENT
DTSTART;VALUE=DATE:20271115
DTEND;VALUE=DATE:20271116
DTSTAMP:20260421T131032
CREATED:20260217T163610Z
LAST-MODIFIED:20260217T171106Z
UID:10000085-1826236800-1826323199@parkviewgreencondos.org
SUMMARY:Monthly Board Meeting
DESCRIPTION:Time(s): 6:30 PM\nMeeting ID: 880 0205 7099\nMeeting password: 393271\nDial-in: (669) 900-9128
URL:https://parkviewgreencondos.org/event/monthly-board-meeting/2027-11-15/
LOCATION:https://parkviewgreencondos.org/event/monthly-board-meeting/2027-11-15/
END:VEVENT
BEGIN:VEVENT
DTSTART;VALUE=DATE:20271220
DTEND;VALUE=DATE:20271221
DTSTAMP:20260421T131032
CREATED:20260217T163610Z
LAST-MODIFIED:20260217T171106Z
UID:10000086-1829260800-1829347199@parkviewgreencondos.org
SUMMARY:Monthly Board Meeting
DESCRIPTION:Time(s): 6:30 PM\nMeeting ID: 880 0205 7099\nMeeting password: 393271\nDial-in: (669) 900-9128
URL:https://parkviewgreencondos.org/event/monthly-board-meeting/2027-12-20/
LOCATION:https://parkviewgreencondos.org/event/monthly-board-meeting/2027-12-20/
END:VEVENT
BEGIN:VEVENT
DTSTART;VALUE=DATE:20280117
DTEND;VALUE=DATE:20280118
DTSTAMP:20260421T131032
CREATED:20260217T163610Z
LAST-MODIFIED:20260217T171106Z
UID:10000087-1831680000-1831766399@parkviewgreencondos.org
SUMMARY:Monthly Board Meeting
DESCRIPTION:Time(s): 6:30 PM\nMeeting ID: 880 0205 7099\nMeeting password: 393271\nDial-in: (669) 900-9128
URL:https://parkviewgreencondos.org/event/monthly-board-meeting/2028-01-17/
LOCATION:https://parkviewgreencondos.org/event/monthly-board-meeting/2028-01-17/
END:VEVENT
BEGIN:VEVENT
DTSTART;VALUE=DATE:20280221
DTEND;VALUE=DATE:20280222
DTSTAMP:20260421T131032
CREATED:20260217T163610Z
LAST-MODIFIED:20260217T171106Z
UID:10000088-1834704000-1834790399@parkviewgreencondos.org
SUMMARY:Monthly Board Meeting
DESCRIPTION:Time(s): 6:30 PM\nMeeting ID: 880 0205 7099\nMeeting password: 393271\nDial-in: (669) 900-9128
URL:https://parkviewgreencondos.org/event/monthly-board-meeting/2028-02-21/
LOCATION:https://parkviewgreencondos.org/event/monthly-board-meeting/2028-02-21/
END:VEVENT
BEGIN:VEVENT
DTSTART;VALUE=DATE:20280320
DTEND;VALUE=DATE:20280321
DTSTAMP:20260421T131032
CREATED:20260217T163610Z
LAST-MODIFIED:20260217T171106Z
UID:10000089-1837123200-1837209599@parkviewgreencondos.org
SUMMARY:Monthly Board Meeting
DESCRIPTION:Time(s): 6:30 PM\nMeeting ID: 880 0205 7099\nMeeting password: 393271\nDial-in: (669) 900-9128
URL:https://parkviewgreencondos.org/event/monthly-board-meeting/2028-03-20/
LOCATION:https://parkviewgreencondos.org/event/monthly-board-meeting/2028-03-20/
END:VEVENT
BEGIN:VEVENT
DTSTART;VALUE=DATE:20280417
DTEND;VALUE=DATE:20280418
DTSTAMP:20260421T131032
CREATED:20260217T163610Z
LAST-MODIFIED:20260217T171106Z
UID:10000090-1839542400-1839628799@parkviewgreencondos.org
SUMMARY:Monthly Board Meeting
DESCRIPTION:Time(s): 6:30 PM\nMeeting ID: 880 0205 7099\nMeeting password: 393271\nDial-in: (669) 900-9128
URL:https://parkviewgreencondos.org/event/monthly-board-meeting/2028-04-17/
LOCATION:https://parkviewgreencondos.org/event/monthly-board-meeting/2028-04-17/
END:VEVENT
BEGIN:VEVENT
DTSTART;VALUE=DATE:20280515
DTEND;VALUE=DATE:20280516
DTSTAMP:20260421T131032
CREATED:20260217T163610Z
LAST-MODIFIED:20260217T171106Z
UID:10000091-1841961600-1842047999@parkviewgreencondos.org
SUMMARY:Monthly Board Meeting
DESCRIPTION:Time(s): 6:30 PM\nMeeting ID: 880 0205 7099\nMeeting password: 393271\nDial-in: (669) 900-9128
URL:https://parkviewgreencondos.org/event/monthly-board-meeting/2028-05-15/
LOCATION:https://parkviewgreencondos.org/event/monthly-board-meeting/2028-05-15/
END:VEVENT
BEGIN:VEVENT
DTSTART;VALUE=DATE:20280619
DTEND;VALUE=DATE:20280620
DTSTAMP:20260421T131033
CREATED:20260217T163610Z
LAST-MODIFIED:20260217T171106Z
UID:10000092-1844985600-1845071999@parkviewgreencondos.org
SUMMARY:Monthly Board Meeting
DESCRIPTION:Time(s): 6:30 PM\nMeeting ID: 880 0205 7099\nMeeting password: 393271\nDial-in: (669) 900-9128
URL:https://parkviewgreencondos.org/event/monthly-board-meeting/2028-06-19/
LOCATION:https://parkviewgreencondos.org/event/monthly-board-meeting/2028-06-19/
END:VEVENT
BEGIN:VEVENT
DTSTART;VALUE=DATE:20280717
DTEND;VALUE=DATE:20280718
DTSTAMP:20260421T131033
CREATED:20260217T163610Z
LAST-MODIFIED:20260217T171106Z
UID:10000093-1847404800-1847491199@parkviewgreencondos.org
SUMMARY:Monthly Board Meeting
DESCRIPTION:Time(s): 6:30 PM\nMeeting ID: 880 0205 7099\nMeeting password: 393271\nDial-in: (669) 900-9128
URL:https://parkviewgreencondos.org/event/monthly-board-meeting/2028-07-17/
LOCATION:https://parkviewgreencondos.org/event/monthly-board-meeting/2028-07-17/
END:VEVENT
BEGIN:VEVENT
DTSTART;VALUE=DATE:20280821
DTEND;VALUE=DATE:20280822
DTSTAMP:20260421T131033
CREATED:20260217T163610Z
LAST-MODIFIED:20260217T171106Z
UID:10000094-1850428800-1850515199@parkviewgreencondos.org
SUMMARY:Monthly Board Meeting
DESCRIPTION:Time(s): 6:30 PM\nMeeting ID: 880 0205 7099\nMeeting password: 393271\nDial-in: (669) 900-9128
URL:https://parkviewgreencondos.org/event/monthly-board-meeting/2028-08-21/
LOCATION:https://parkviewgreencondos.org/event/monthly-board-meeting/2028-08-21/
END:VEVENT
BEGIN:VEVENT
DTSTART;VALUE=DATE:20280918
DTEND;VALUE=DATE:20280919
DTSTAMP:20260421T131033
CREATED:20260217T163610Z
LAST-MODIFIED:20260217T171106Z
UID:10000095-1852848000-1852934399@parkviewgreencondos.org
SUMMARY:Monthly Board Meeting
DESCRIPTION:Time(s): 6:30 PM\nMeeting ID: 880 0205 7099\nMeeting password: 393271\nDial-in: (669) 900-9128
URL:https://parkviewgreencondos.org/event/monthly-board-meeting/2028-09-18/
LOCATION:https://parkviewgreencondos.org/event/monthly-board-meeting/2028-09-18/
END:VEVENT
BEGIN:VEVENT
DTSTART;VALUE=DATE:20281016
DTEND;VALUE=DATE:20281017
DTSTAMP:20260421T131033
CREATED:20260217T163610Z
LAST-MODIFIED:20260217T171106Z
UID:10000096-1855267200-1855353599@parkviewgreencondos.org
SUMMARY:Monthly Board Meeting
DESCRIPTION:Time(s): 6:30 PM\nMeeting ID: 880 0205 7099\nMeeting password: 393271\nDial-in: (669) 900-9128
URL:https://parkviewgreencondos.org/event/monthly-board-meeting/2028-10-16/
LOCATION:https://parkviewgreencondos.org/event/monthly-board-meeting/2028-10-16/
END:VEVENT
END:VCALENDAR